Workbook

Sheet 確認票
A1: 入札参加資格審査申請の確認票 | AF1: 【建設工事】 ※ エクセルファイルのまま提出ください
A3: 申 請 に 係 る 指 定 書 類 | AH3: 指定 様式 | AM3: 要否 | AP3: 摘 要 | CT3: 提出者 確認欄
A5: １． 一般競争（指名競争）参加資格審査申請書 | AH5: 様式 １ | AM5: ● | AP5: 【 総務省標準様式 】 共通様式 ※ 記載要領を確認ください
A6: ２． 競争参加資格希望工種表 | AH6: 様式 2-1 | AM6: ● | AP6: 【 総務省標準様式 】
A7: ３． 営業所一覧表 | AH7: 様式 2-2 | AM7: △ | AP7: 【 総務省標準様式 】 ※ 本社（店）から支店等営業所に委任する場合のみ提出
A8: ４． 経営規模等評価結果通知書・総合評定値通知書 （写し） | AM8: ● | AP8: 審査基準日は令和６年４月1日以降で最新のもの
A9: ５． 建設業許可通知書 （写し） | AM9: ● | AP9: 更新中の場合は証明が必要
A10: ６． 営業所一覧 【別紙二】 （写し） | AM10: △ | AP10: 建設業許可申請書の添付書類 ※ 本社（店）から支店等営業所に委任する場合のみ提出
A11: ７． 専任技術者一覧表 【別紙四】 （写し） | AM11: △ | AP11: 建設業許可申請書の添付書類 ※ 南九州市内に本社（店）又は支店等営業所がある場合のみ提出
A12: ８． 鹿児島県建設工事入札参加資格審査結果 （写し） | AM12: △ | AP12: ※ 南九州市内に本社（店）又は支店等営業所があり、格付業種（土木・建築・舗装）を希望する場合のみ提出 令和7年４月１日以降の土木・建築・舗装の格付が確認できるもの
A13: ９． 工事経歴書 | AM13: ● | AP13: 最新の経営事項審査申請の際に添付したものを提出 （２決算期分）
A14: 10．技術職員名簿 | AH14: 様式 ５ | AM14: ● | AP14: 内容が同等のものであれば指定外様式でも可
A15: 11．ボランティア活動の状況 | AH15: 様式 ６ | AM15: △ | AP15: ※ 南九州市内に本社（店）又は支店等営業所があり、格付業種（土木・建築・舗装）を希望する場合のみ提出 ※ ない場合も「無」と記載し提出
A16: 12．その他 | AH16: 様式 ７ | AM16: △
A17: 13．営業所所在地等報告書及び誓約書 | AH17: 様式 10 | AM17: △ | AP17: ※ 南九州市内に本社（店）又は支店等営業所がある場合のみ提出
A18: 14．市税等納入状況調査同意書 | AH18: 様式 11 | AM18: △ | AP18: ※ 南九州市内に本社（店）又は支店等営業所がある場合のみ提出
A19: 15．個人住民税特別徴収実施確認・開始誓約書 | AH19: 様式 12 | AM19: ● | AP19: 南九州市内在住の従業員がいない場合も提出
A20: 16．納税証明書 （写し可） | AP20: ※ 参加資格を受けようとする事業所所在地の納税証明書を提出
C21: （1）国税・消費税及び地方消費税 | AP21: 税務署が発行するもの
E22: ・ 法人の場合 （法人税・消費税及び地方消費税） | AM22: ● | AP22: 【 税務署様式 その３の３ 】 | BN22: （法人）
E23: ・ 個人の場合 （申告所得税・消費税及び地方消費税） | AM23: ● | AP23: 【 税務署様式 その３の２ 】 | BN23: （個人）
C24: （2）都道府県税 | AM24: ● | AP24: 所在地の都道府県が発行するもの 【 都道府県税すべてに関し滞納がないことの証明書等 】
C25: （3）市町村税 | AP25: 所在地の市町村が発行するもの 【各市町村税（全税目）に関し滞納がないことの証明書等】
E26: ・ 法人の場合 （法人住民税・固定資産税） | AM26: ● | AP26: （法人）
E27: ・ 個人の場合 （市区町村民税） | AM27: ● | AP27: （個人）
A28: 17．商業登記簿謄本（代表者身分証明書） （写し可） | AM28: ● | AP28: [法人] 法務局発行の商業登記簿謄本 、 [個人] 本籍地発行の身分証明書
A29: ※ 各種証明書は、申請書提出日の３か月以内に発行されたもので、現に有効なものを提出ください。

Sheet 様式1
B2: 01 | J2: 新規 | S2: 02 受付番号※ | BN2: 04 | BQ2: 法人番号 | DR2: 06 | DU2: 適格組合証明 | EG2: 取得年月日 | FE2: 年 | FN2: 月 | FX2: 日
J3: 更新 | S3: 03 業者コード※ | BN3: 05 | BQ3: 建設業許可番号 | CR3: - | EG3: 番号 | FX3: 号
BO4: 注）05については建設工事に係る競争について申請する場合に記入する。
B6: 一般競争（指名競争）参加資格審査申請書
C8: 令和8・9年度において、 | Z8: 南九州市 | AV8: で行われる入札に参加する資格の審査を申請します。
C9: なお、この申請書及び添付書類の内容については、事実と相違しないことを誓約します。
E11: 令和 | R11: 年 | AA11: 月 | AK11: 日
Q13: 南九州市長 | AU13: 殿
B15: 07 | F15: 本社（店）郵便番号
Z18: 都道府県 | AX18: 市区町村 | BZ18: 町名番地
B19: 08 | F19: 本社（店）住所
F22: フリガナ | Z22: 略号
B24: 09 | F24: 商号又は名称 | X24: （ | AG24: ）
B27: 10 | F27: 代表者役職
F30: フリガナ | Z30: セイ | AD30: ： | BI30: メイ | BM30: ：
B32: 11 | F32: 代表者氏名 | Z32: 姓 | AD32: ： | BI32: 名 | BM32: ：
B36: 12 | F36: 本社（店）電話番号 | AL36: - | BF36: -
Z38: 部署名 (所属名) 役職名 | CS38: セイ | CW38: ： | EB38: メイ | EF38: ：
B40: 13 | F40: 担当者 | AH40: ： | CS40: 姓 | CW40: ： | EB40: 名 | EF40: ：
AJ42: ※代表者が申請担当者を兼ねる場合、役職を記載
B43: 14 | F43: 担当者郵便番号
BA44: ※本社（店）と同じ場合には、郵便番号欄を空欄とし、住所欄に「本社と同じ」と記載
Z46: 都道府県 | AX46: 市区町村 | BZ46: 町名番地
B47: 15 | F47: 担当者住所
B50: 16 | F50: 担当者電話番号 | AL50: - | BF50: - | CE50: （ | CG50: 内線番号 | DL50: ）
DO51: ※本社（店）と同じ場合には、「本社と同じ」と記載
B53: 17 | F53: 担当者メールアドレス | CP53: ＠
B56: （18 代理申請時使用欄）
Z58: セイ | AD58: ： | BI58: メイ | BM58: ：
B60: 18 | F60: 申請代理人氏名 | Z60: 姓 | AD60: ： | BI60: 名 | BM60: ： | CV60: 行政書士登録番号
F63: 郵便番号
Z66: 都道府県 | AX66: 市区町村 | BZ66: 町名番地
F67: 住所
F70: 電話番号 | AL70: - | BF70: -
F73: メールアドレス | CP73: ＠
B76: 19 | F76: 外資状況
AD77: １ | AF77: 外資なし | BD77: ２ | BF77: 外国籍会社 | CL77: ３ | CN77: 日本国籍会社 | DT77: ４ | DV77: 日本国籍会社
AZ78: ［ 国名 ： | CC78: ］ | CH78: ［ 国名 ： | DK78: ］ | DP78: ［ 国名 ： | ES78: ］ | EW78: ［ 国名 ： | FZ78: ］
CK80: （ 外資比率 ： １００％ ） | DT80: （ 外資比率 ： | EL80: ％ ） | FA80: （ 外資比率 ： | FS80: ％ ）
B83: 20 | F83: 営業年数 | AM83: 年 | AS83: （合併等後 | BI83: 年 | BQ83: ヶ月）
...

Sheet 様式2-1
A1: ※受付番号 | O1: =#REF! -> #REF! | AT1: ※業者コ－ド | BH1: =#REF! -> #REF!
A2: 競争参加資格希望工種表
I4: ① 建設工事の許可業種区分 | AZ4: ② | BB4: 年間平均 完成工事高 | BL4: ③ 競争参加資格希望工種区分 | EN4: ④総合 評定値
A5: 24
E7: 番号 | I7: 許可状況 (○を記載) | Q7: 業種 | AR7: 許可区分 | BL7: 01 | BP7: 02 | BT7: 03 | BX7: 04 | CB7: 05 | CF7: 06 | CJ7: 07 | CN7: 08 | CR7: 09 | CV7: 10 | CZ7: 11 | DD7: 12 | DH7: 13 | DL7: 14 | DP7: 15 | DT7: 16 | DX7: 17 | EB7: 18 | EF7: 19 | EJ7: 20
BE8: （千円）
A10: 建設工事の許可業種等 | E10: ０１ | Q10: 土木一式工事
E11: ０２ | Q11: 建築一式工事
E12: ０３ | Q12: 大工工事
E13: ０４ | Q13: 左官工事
E14: ０５ | Q14: とび・土工・コンクリート工事
E15: ０６ | Q15: 石工事
E16: ０７ | Q16: 屋根工事
E17: ０８ | Q17: 電気工事
E18: ０９ | Q18: 管工事
E19: １０ | Q19: タイル・れんが・ブロック工事
E20: １１ | Q20: 鋼構造物工事
E21: １２ | Q21: 鉄筋工事
E22: １３ | Q22: 舗装工事
... E38: ２９ | Q38: 解体工事
E39: その他
E40: 合計 | AZ40: =SUM(AZ10:BK39) -> 0
A41: （注）完成工事高については、消費税を含まない金額を記載すること。

Sheet 様式2-2
A1: ※ 受付番号 | O1: =#REF! -> #REF! | AN1: ※ 業者コード | AZ1: =#REF! -> #REF! | FQ1: 1 | FU1: ／ | FY1: 1 | GC1: 頁
F3: 営業所一覧表（建設工事）
B5: 番号 | DV5: 建設業許可業種
B7: 営業所の名称 | DV7: 土 | DZ7: 建 | ED7: 大 | EH7: 左 | EL7: と | EP7: 石 | ET7: 屋 | EX7: 電 | FB7: 管 | FF7: タ | FJ7: 鋼 | FN7: 筋 | FR7: 舗 | FV7: しゅ | FZ7: 板
B9: 営業所の代表者 | W9: 役職
W11: フリガナ | CT11: ※左欄にセイ、右欄にメイを記載
W13: 氏名 | CT13: ※左欄に姓、右欄に名を記載 | DV13: ガ | DZ13: 塗 | ED13: 防 | EH13: 内 | EL13: 機 | EP13: 絶 | ET13: 通 | EX13: 園 | FB13: 井 | FF13: 具 | FJ13: 水 | FN13: 消 | FR13: 清 | FV13: 解
B15: 営業所の所在地 | W15: 郵便番号 | BD15: -
W17: 都道府県
W19: 市区町村 | DV19: 営業区域コード
W21: 町名番地
B23: 連絡先 | W23: 電話番号 | BD23: - | BX23: - | CR23: （内線番号）
W25: メールアドレス | CE25: ＠
B29: 番号 | DV29: 建設業許可業種
B31: 営業所の名称 | DV31: 土 | DZ31: 建 | ED31: 大 | EH31: 左 | EL31: と | EP31: 石 | ET31: 屋 | EX31: 電 | FB31: 管 | FF31: タ | FJ31: 鋼 | FN31: 筋 | FR31: 舗 | FV31: しゅ | FZ31: 板
B33: 営業所の代表者 | W33: 役職
W35: フリガナ | CT35: ※左欄にセイ、右欄にメイを記載
W37: 氏名 | CT37: ※左欄に姓、右欄に名を記載 | DV37: ガ | DZ37: 塗 | ED37: 防 | EH37: 内 | EL37: 機 | EP37: 絶 | ET37: 通 | EX37: 園 | FB37: 井 | FF37: 具 | FJ37: 水 | FN37: 消 | FR37: 清 | FV37: 解
B39: 営業所の所在地 | W39: 郵便番号 | BD39: -
W41: 都道府県
W43: 市区町村 | DV43: 営業区域コード
W45: 町名番地
B47: 連絡先 | W47: 電話番号 | BD47: - | BX47: - | CR47: （内線番号）
W49: メールアドレス | CE49: ＠
A52: 記載要領
B53: １ | E53: 本表は、申請先地方公共団体の競争に参加するに当たって、本社（店）から受任する支店等営業所の状況について、申請日時点で作成すること。
B54: ２ | E54: 「営業所の名称」欄には、経営事項審査を受けた建設業の許可を有する支店等営業所の名称を記載すること。
B55: ３ | E55: 「電話番号」欄における市外局番、市内局番及び番号については、（ ）を用いずに、数字のみを記載すること。
B56: ４ | E56: ｢メ－ルアドレス」欄には、申請先地方公共団体からの種々の連絡に対応でき得るアドレスを記載すること。
B57: ５ | E57: 「建設業許可業種」の欄には、経営事項審査を受けた建設業許可業種について、一般建設業の許可を受けている場合には「1」を、特定建設業の許可を受けている場合には「2」を記載すること。
B58: ６ | E58: 「営業区域コード」欄には、その営業所が営業する区域について、該当するコ－ド（記載要領参照）を記載すること。
B59: ７ | E59: 記載欄が不足する場合には、同一の様式を用いて２頁目以降を作成すること。

Sheet 様式５
A1: 様式５（建設工事）
C2: 技 術 職 員 名 簿
E3: 氏 名 | U3: 生年月日 | AE3: 有資格名 | BB3: 業種の区分（１級◎，２級○） | BZ3: 採用年月日
BB4: 土 | BD4: と | BF4: 石 | BH4: し | BJ4: ほ | BL4: 園 | BN4: 建 | BP4: 大 | BR4: 屋 | BT4: 電 | BV4: 管 | BX4: 水
C5: 1
C8: 2
C11: 3
C14: 4
C17: 5
C20: 6
C23: 7
C26: 8
C29: 9
C32: 10
BB35: 土 | BD35: と | BF35: 石 | BH35: し | BJ35: ほ | BL35: 園 | BN35: 建 | BP35: 大 | BR35: 屋 | BT35: 電 | BV35: 管 | BX35: 水
AE36: １級技術者の合計（◎の数）
AE37: ２級技術者の合計（○の数）
C38: ※内容が同等のものであれば指定外様式でも可

Sheet 様式６
A1: 様式６（建設工事）
B2: ボランティア活動の状況
A3: 南九州市内での ボランティア活動の状況（公共施設（道路、河川、水路、海岸、学校等）への愛護活動や地域における奉仕活動等）
B4: 令和６年度及び令和７年度のボランティア活動について記入し、活動の確認できる資料(※）を添付すること。
B5: なお、ボランティア活動は会社としての活動に限り、代表者や職員が個人的に実施、参加した活動は対象外とする。
B7: 【令和６年度分】 | AH7: ※添付書類の右上余白に整理番号を付記すること。
B8: 整理 番号 | D8: 活動内容 | Y8: 活動場所 (地域名） | AJ8: 参加人数 | AN8: 実施年月日 令和６年４月１日～ 令和７年３月31日 | AV8: 従事時間
B10: 3-1 | AM10: 人 | AQ10: 年 | AS10: 月 | AU10: 日 | AY10: 時間
B11: 3-2 | AM11: 人 | AQ11: 年 | AS11: 月 | AU11: 日 | AY11: 時間
B12: 3-3 | AM12: 人 | AQ12: 年 | AS12: 月 | AU12: 日 | AY12: 時間
B13: 3-4 | AM13: 人 | AQ13: 年 | AS13: 月 | AU13: 日 | AY13: 時間
B14: 3-5 | AM14: 人 | AQ14: 年 | AS14: 月 | AU14: 日 | AY14: 時間
B15: 3-6 | AM15: 人 | AQ15: 年 | AS15: 月 | AU15: 日 | AY15: 時間
B16: 3-7 | AM16: 人 | AQ16: 年 | AS16: 月 | AU16: 日 | AY16: 時間
B17: 3-8 | AM17: 人 | AQ17: 年 | AS17: 月 | AU17: 日 | AY17: 時間
B18: 3-9 | AM18: 人 | AQ18: 年 | AS18: 月 | AU18: 日 | AY18: 時間
B19: 3-10 | AM19: 人 | AQ19: 年 | AS19: 月 | AU19: 日 | AY19: 時間
B24: 【令和７年度分】
B25: 整理 番号 | D25: 活動内容 | Y25: 活動場所 (地域名） | AJ25: 参加人数 | AN25: 実施年月日 令和６年４月１日～ 令和７年３月31日 | AV25: 従事時間
B27: 4-1 | AM27: 人 | AQ27: 年 | AS27: 月 | AU27: 日 | AY27: 時間
B28: 4-2 | AM28: 人 | AQ28: 年 | AS28: 月 | AU28: 日 | AY28: 時間
B29: 4-3 | AM29: 人 | AQ29: 年 | AS29: 月 | AU29: 日 | AY29: 時間
B30: 4-4 | AM30: 人 | AQ30: 年 | AS30: 月 | AU30: 日 | AY30: 時間
B31: 4-5 | AM31: 人 | AQ31: 年 | AS31: 月 | AU31: 日 | AY31: 時間
B32: 4-6 | AM32: 人 | AQ32: 年 | AS32: 月 | AU32: 日 | AY32: 時間
B33: 4-7 | AM33: 人 | AQ33: 年 | AS33: 月 | AU33: 日 | AY33: 時間
B34: 4-8 | AM34: 人 | AQ34: 年 | AS34: 月 | AU34: 日 | AY34: 時間
B35: 4-9 | AM35: 人 | AQ35: 年 | AS35: 月 | AU35: 日 | AY35: 時間
B36: 4-10 | AM36: 人 | AQ36: 年 | AS36: 月 | AU36: 日 | AY36: 時間

Sheet 様式７
A1: 様式７（建設工事）
B2: その他
A3: １．南九州市との災害時における応急対策等の協定の締結状況
B4: 災害時における応急対策等 の協定の締結の有無 | L4: 加入団体名
B9: ※(1）「災害時における応急対策等の協定・契約の締結の有無」の欄は、申請日時点で南九州市と災害時における応急対策等の協定・契約を締結している 団体に加入している場合に「○」を記入すること。 (2） (1)で「○」と記載した場合、「加入団体名」の欄に加入する団体名を記入すること。
A11: １－１．災害支援活動の状況
B12: 災害支援活動の有無
B15: 整理 番号 | D15: 活 動 内 容 | R15: 活動場所 （地域名） | W15: 参加人数 | AA15: 実 施 年 月 日 | AI15: 従事時間 | AN15: ６年度 | AQ15: ７年度
B16: 1 | Y16: 人 | AD16: 年 | AF16: 月 | AH16: 日 | AK16: 時間
B17: 2 | Y17: 人 | AD17: 年 | AF17: 月 | AH17: 日 | AK17: 時間
B18: 3 | Y18: 人 | AD18: 年 | AF18: 月 | AH18: 日 | AK18: 時間
B19: 4 | Y19: 人 | AD19: 年 | AF19: 月 | AH19: 日 | AK19: 時間
B20: 5 | Y20: 人 | AD20: 年 | AF20: 月 | AH20: 日 | AK20: 時間
B21: 6 | Y21: 人 | AD21: 年 | AF21: 月 | AH21: 日 | AK21: 時間
B22: 合計（○の数） | AN22: =COUNTA(AN16:AP21) -> 0 | AQ22: =COUNTA(AQ16:AS21) -> 0
B24: ※(1) 災害支援活動の状況について、「災害支援活動の有無」の欄を記入すること。 (2) 令和６年４月１日から令和８年３月31日の期間内に南九州市内において実施した災害支援活動の実施状況を記入すること。 （７件以上ある場合は、整理番号１の活動内容に「1-1（別紙）のとおり」と記載し、「1-1（別紙）」を作成しすること。） ① 災害支援活動の例 ・災害発生時における道路・河川・公共建築物等への緊急出動や防災パトロール ・道路等における除雪作業 ② 「６年度」、「７年度」の欄は、該当する年度に「○」印を、「○」の合計個数を「合計（○の数）」の欄に年度ごとに記入すること。 (3) 確認のために写真、新聞記事等の活動内容が確認できる資料を添付すること。資料の右上余白に整理番号を付し、整理番号順に並べて提出すること。 なお、建設会社自身による証明書（事実の申立書、事実に相違ないことの誓約書等）は認めないので注意すること。
A25: ２．消防団員の雇用状況
B27: 消防団員数
M28: 人
B30: ※申請日時点の南九州市の消防団員数（常勤の雇用者に限る。）を記入すること。
A32: ２－１．上記雇用消防団員の氏名等
B33: 氏 名 | H33: 住 所 | T33: 配属分団名 | Y33: 氏 名 | AE33: 住 所 | AQ33: 配属分団名
W34: 分団 | AT34: 分団
W35: 分団 | AT35: 分団
W36: 分団 | AT36: 分団
W37: 分団 | AT37: 分団
W38: 分団 | AT38: 分団
A40: ３．南九州市水道事業指定給水工事事業者の指定状況 | AH40: ３－１．南九州市水道修繕当番店の受託状況
B41: 指定の有無 | I41: 指定年月日 | V41: 給水装置工事主任技術者数 | AI41: 当 番 店 受託の有無 | AN41: ６年度 | AQ41: ７年度
N42: 年 | Q42: 月 | T42: 日 | AD42: 人
B44: ※指定を受けている場合、指定の有無欄に「○」印を記入すること。 | AI44: ※該当する年度の欄に「○」印を記入すること。
B45: ※給水装置工事主任技術者数は、申請日時点の南九州市内の営業所における常勤の雇用者数を記入すること。

Sheet 様式７別紙
B1: （様式７ 災害支援活動の状況において７件以上ある場合）
A2: １－１(別紙）
B4: 整理 番号 | D4: 活 動 内 容 | R4: 活動場所 （地域名） | W4: 参加人数 | AA4: 実 施 年 月 日 | AI4: 従事時間 | AN4: ６年度 | AQ4: ７年度
B5: 1 | Y5: 人 | AD5: 年 | AF5: 月 | AH5: 日 | AK5: 時間
B6: 2 | Y6: 人 | AD6: 年 | AF6: 月 | AH6: 日 | AK6: 時間
B7: 3 | Y7: 人 | AD7: 年 | AF7: 月 | AH7: 日 | AK7: 時間
B8: 4 | Y8: 人 | AD8: 年 | AF8: 月 | AH8: 日 | AK8: 時間
B9: 5 | Y9: 人 | AD9: 年 | AF9: 月 | AH9: 日 | AK9: 時間
B10: 6 | Y10: 人 | AD10: 年 | AF10: 月 | AH10: 日 | AK10: 時間
B11: 7 | Y11: 人 | AD11: 年 | AF11: 月 | AH11: 日 | AK11: 時間
B12: 8 | Y12: 人 | AD12: 年 | AF12: 月 | AH12: 日 | AK12: 時間
B13: 9 | Y13: 人 | AD13: 年 | AF13: 月 | AH13: 日 | AK13: 時間
B14: 10 | Y14: 人 | AD14: 年 | AF14: 月 | AH14: 日 | AK14: 時間
B15: 11 | Y15: 人 | AD15: 年 | AF15: 月 | AH15: 日 | AK15: 時間
B16: 12 | Y16: 人 | AD16: 年 | AF16: 月 | AH16: 日 | AK16: 時間
... B24: 20 | Y24: 人 | AD24: 年 | AF24: 月 | AH24: 日 | AK24: 時間
B25: 合計（○の数） | AN25: =COUNTA(AN5:AP24) -> 0 | AQ25: =COUNTA(AQ5:AS24) -> 0
B27: ※令和６年４月１日から令和８年３月31日の期間内に南九州市内において実施した災害支援活動の実施状況を記入すること。 ① 災害支援活動の例 ・災害発生時における道路・河川・公共建築物等への緊急出動や防災パトロール ・道路等における除雪作業 ② 「６年度」、「７年度」の欄は、該当する年度に「○」印を、「○」の合計個数を「合計（○の数）」の欄に記入すること。 ③ 確認のために写真、新聞記事等の活動内容が確認できる資料を添付すること。資料の右上余白に整理番号を付し、整理番号順に並べて提出すること。 なお、建設会社自身による証明書（事実の申立書、事実に相違ないことの誓約書等）は認めないので注意すること。

Sheet 様式10
A1: 様式10
A3: 営業所所在地等報告書及び誓約書
U5: 令和 | W5: =様式1!M11 -> 0 | X5: 年 | Y5: =様式1!V11 -> 0 | Z5: 月 | AA5: =様式1!AF11 -> 0 | AB5: 日
A7: 南九州市長 殿
I9: 本社（主たる営業所）の
I10: 所在地 | N10: =IF(様式1!$Z$19="","",CONCATENATE(様式1!$Z$19,"",様式1!$AX$19,"",様式1!$BZ$19))
I11: 商号又は名称 | N11: =IF(様式1!$AI$24="","",様式1!$AI$24)
I12: 代表者職氏名 | N12: =IF(様式1!$Z$27="","",CONCATENATE(様式1!$Z$27," ",様式1!$AF$32," ",様式1!$BO$32))
A15: 南九州市内に所在する本社及び営業所等について、下記のとおり報告します。
A16: 報告した内容及び添付書類は、事実と相違ないことを誓約します。
A17: また、この報告書に基づき実施される営業所等実態調査（資料提出及び写真撮影を含む）につ
A18: いて、全面的に協力いたします。
A19: なお、この誓約にもかかわらず、実態調査の協力要請及び改善指導に従わないときは、貴市の
A20: いかなる処置についてもこれに従い、一切の異議の申し立てを行いません。
A22: 記
A24: 営業所の所在地 | H24: 南九州市
A25: 営業所の名称
A26: 営業所代表者の職氏名
A27: 営業所代表者の現住所
A28: 電話番号 | O28: FAX番号
A29: 営業所の登記 | Q29: （登記年月日 年 月 日）予定含む
A30: 法人設立（設置）届 （南九州市税務課への届出） | Q30: （届出年月日 年 月 日）予定含む
A31: 営業所建物の形態
H32: =IF(H31 = "役員又は職員の住居と併用", "所有者名", IF(H31 = "他社と併用", "相手方の名称", "")) | M32: （ | AB32: ）
A33: 看板の設置状況 | J33: （設置場所 | V33: ）
A34: 郵便受けの設置状況
A35: 電話の設置状況 | H35: 固定電話 | K35: （ | M35: 台） | N35: 転送電話 | Q35: （ | S35: 台） | T35: その他 | W35: （ | Y35: 台）
A36: 営業所専用の 備品の状況 | H36: パソコン | K36: （ | N36: 台 | O36: ， | P36: うち電子入札用 | W36: 台 | X36: ）
H37: ＦＡＸ（ | M37: 台 | N37: ） | O37: 複写機（ | T37: 台 | U37: ） | V37: 机･イス（ | AA37: 台 | AB37: ）
A38: 営業所の職員数 (今回提出日現在で記入ください) | H38: 営業所に常駐している職員総数 | R38: （ | V38: 人 | W38: ）
H39: 内訳 | J39: 技術職員： | O39: 人 | P39: 事務職員： | U39: 人 | V39: 営業職員： | AA39: 人
J40: パート・契約職員： | Q40: 人 | S40: その他： | W40: 人
A41: （注意事項）
A42: 1 | B42: 南九州市内に営業所等を開設した場合に提出してください。この場合の営業所等とは、取引に関する委任の有無は問いません。また、該当する営業所等が複数ある場合は、営業所等ごとに作成してください。
A44: 2 | B44: 営業所を賃借している場合は、賃貸借契約書の写し等借りていることが判断できる資料を添付してください。
A46: 3 | B46: 営業所の職員数は、その営業所に常時在籍する職員数を記入してください。
A47: 看板含む営業所全景
K55: 写真貼り付け（カラー）
A68: 営業所（事務所内）
J77: 写真貼り付け（カラー）
...

Sheet 様式11
A1: 様式11
A2: 市税等納入状況調査同意書
G3: 令和 | H3: =様式1!M11 -> 0 | I3: 年 | J3: =様式1!V11 -> 0 | K3: 月 | L3: =様式1!AF11 -> 0 | M3: 日
A5: 南九州市長 殿
C7: 所 在 地 | F7: =IF(様式1!$Z$19="","",CONCATENATE(様式1!$Z$19,"",様式1!$AX$19,"",様式1!$BZ$19))
C8: 商号又は名称 | F8: =IF(様式1!$AI$24="","",様式1!$AI$24)
C9: 代表者職氏名 | F9: =IF(様式1!$Z$27="","",CONCATENATE(様式1!$Z$27," ",様式1!$AF$32," ",様式1!$BO$32))
C10: ※法人の場合は上下どちらも記入ください。
D11: （フリガナ） | F11: =IF(様式1!$AF$30="","",CONCATENATE(様式1!$AF$30," ",様式1!$BO$30))
C12: 氏名（代表者個人） | F12: =IF(様式1!$AF$30="","",CONCATENATE(様式1!$AF$32," ",様式1!$BO$32))
C13: 住 所
C14: 生 年 月 日
B16: ※ 委任する場合は、以下の欄も記入ください。
C18: 所 在 地 | F18: =IF('様式2-2'!$AR$17="","",CONCATENATE('様式2-2'!$AR$17,"",'様式2-2'!$AR$19,"",'様式2-2'!$AR$21))
C19: 商号又は名称 | F19: =IF('様式2-2'!$AR$7="","",'様式2-2'!$AR$7)
C20: 代表者職氏名 | F20: =IF('様式2-2'!$AR$9="","",CONCATENATE('様式2-2'!$AR$9," ",'様式2-2'!$AR$13," ",'様式2-2'!$BS$13))
C21: ※法人の場合は上下どちらも記入ください。
D22: （フリガナ） | F22: =IF('様式2-2'!$AR$11="","",CONCATENATE('様式2-2'!$AR$11," ",'様式2-2'!$BS$11))
C23: 氏名（代表者個人） | F23: =IF('様式2-2'!$AR$13="","",CONCATENATE('様式2-2'!$AR$13," ",'様式2-2'!$BS$13))
C24: 住 所
C25: 生 年 月 日
A29: 南九州市に対して支払い義務を有する市税等（法人、代表者個人）の納入状況について、
A30: 指名調査の際に、南九州市財政課長が確認（調査）することに同意します。
A33: 確認期間 | B33: 入札参加資格を有する期間

Sheet 様式12
A1: 様式12
A2: 個人住民税特別徴収実施確認・開始誓約書
Y4: 令和 | AA4: =様式1!M11 -> 0 | AB4: 年 | AC4: =様式1!V11 -> 0 | AD4: 月 | AE4: =様式1!AF11 -> 0 | AF4: 日
B6: 南九州市長 殿
O7: 所在地 | T7: =IF(様式1!$Z$19="","",CONCATENATE(様式1!$Z$19,"",様式1!$AX$19,"",様式1!$BZ$19))
O9: 商号又は名称 | T9: =IF(様式1!$AI$24="","",様式1!$AI$24)
O11: 代表者 職・氏名 | T11: =IF(様式1!$Z$27="","",CONCATENATE(様式1!$Z$27," ",様式1!$AF$32," ",様式1!$BO$32))
B14: 次に該当する箇所にチェック☑を付けてください。
B16: １.南九州市内在住の従業員がいない場合
C18: □ | D18: 当事業所には、南九州市内在住の従業員はおりません。
D19: 今後、南九州市内に住所を置く従業員等が発生した場合は特別徴収を実施します。
B22: ２.特別徴収実施済みの場合
C24: 当事業所は、現在、南九州市の特別徴収義務者の指定を受け、従業員等の個人住民税に
B25: ついて、特別徴収を実施しています。
B26: ※ 市民税：県民税特別徴収税額の決定（変更）通知書に記載されている指定番号を以下
C27: に記入願います。
B28: 指定番号（ ）
B29: 特別徴収実施の確認欄
F30: ① | G30: □ | H30: 特別徴収を実施していることがわかる書類の添付
H31: ※裏面に、直近の領収証の写し等(入金が確認できるもの)を貼り付けてください。
H32: ※領収書が無い場合、特別徴収税額の決定（変更）通知書の写しを貼り付けてください。
H33: ※領収書等が添付できる場合は、以下の税務課確認印は必要ありません。
F35: ② | G35: □ | H35: 税務課市民税係での確認印による確認 | Y35: 税務課(係)確認印
H36: ※ 上記に記載の領収証等の写しを添付できな
H37: い場合は、税務課市民税係(頴娃支所市民・
H38: 税務係川辺支所市民・税務係)で確認を受け
H39: てください。
B45: ３.特別徴収未実施の場合
B47: ① | C47: □ | D47: 当事業所は、令和 年 月から従業員等の個人住民
D48: 税について特別徴収を開始することを誓約します。 | Y48: 税務課(係)確認印
D49: つきましては、特別徴収税額の決定通知書を当事業所
D50: あてに送付して下さい。
B53: ② | C53: □ | D53: 当事業所は、特別徴収義務のない事業所です。
E54: ※ 個人事業主の方は、確認を受ける際に確定申告書に添付
E55: する「収支内訳書」の写し又は「青色申告決算書」の写し
E56: のいずれかを提出してください。
B59: ※３の①の誓約による申請は、１回限りの特別措置です。
B60: 次回の申請時に、特別徴収義務がありながら、実施していない場合は、入札参加資格審査
B61: 申請はできません。
B65: Ⅰ 特別徴収とは
...

Sheet 様式12別紙
A1: 様式12別紙
A2: 記載方法については、下記のフロー図によりご判断下さい。
B5: 令和７年１月１日現在、南九州市内に住所を置く従業員がいますか？
F11: １の□に☑を付けてください。
B15: 貴事業所には、次の条件を満たす従業員がいますか？ ① 令和６年中に給与の支払いを受けた。 ② 令和７年４月１日現在において給与の支払いを受けている。
D23: ３の②の□に☑を付けて、税務課市民税係・知覧支所税務係・川辺支所税務係いずれかで確認を受けて下さい。
B27: 従業員の給与等について個人住民税の特別徴収を実施していますか？
D33: ３の①または３の②の□に☑を付けて、税務課市民税係・知覧支所税務係・川辺支所税務係いずれかで確認を受けて下さい。
B37: 特別徴収関係書類（領収証書）の写しがありますか？
D43: ２の②の□に☑を付けて、税務課市民税係・知覧支所税務係・川辺支所税務係いずれかでで確認を受けて下さい。
B47: ２の①の□に☑を付けて、領収証書の写しを裏面に貼り付けて下さい。

Sheet （選択リスト）
B3: ○ | C3: 明治 | D3: 1 | E3: 株 | F3: 株式会社
C4: 大正 | D4: 2 | E4: 有 | F4: 有限会社
C5: 昭和 | E5: 資 | F5: 合資会社
C6: 平成 | E6: 名 | F6: 合名会社
C7: 令和 | E7: 同 | F7: 協同組合
E8: 業 | F8: 協業組合
E9: 企 | F9: 企業組合
E10: 合 | F10: 合同会社
E11: 責 | F11: 有限責任事業組合
E12: 共 | F12: 経常建設共同企業体
E13: 一財 | F13: 一般財団法人
E14: 一社 | F14: 一般社団法人
E15: 公財 | F15: 公益財団法人
E16: 公社 | F16: 公益社団法人
E17: 特財 | F17: 特例財団法人
E18: 特社 | F18: 特例社団法人
